BEGIN:VCALENDAR
VERSION:2.0
PRODID:-//wp-events-plugin.com//7.2.3.1//EN
BEGIN:VEVENT
UID:18@swissclubqld.org.au
DTSTART:20250802T110000Z
DTEND:20250802T190000Z
DTSTAMP:20250519T115142Z
URL:https://www.swissclubqld.org.au/events/swiss-club-qld-national-day-cel
 ebration/
SUMMARY:SWISS CLUB QLD National Day Celebration
DESCRIPTION:[pdf-embedder url="https://www.swissclubqld.org.au/wp-content/u
 ploads/2025/05/SWISSCLUBNationalDay.pdf"]
END:VEVENT
END:VCALENDAR