BEGIN:VCALENDAR
VERSION:2.0
PRODID:-//wp-events-plugin.com//7.2.3.1//EN
BEGIN:VEVENT
UID:20@swissclubqld.org.au
DTSTART:20250803T103000Z
DTEND:20250803T140000Z
DTSTAMP:20250521T203038Z
URL:https://www.swissclubqld.org.au/events/gold-coast-national-day-celebra
 tion/
SUMMARY:Gold Coast National Day Celebration
DESCRIPTION:[pdf-embedder url="https://www.swissclubqld.org.au/wp-content/u
 ploads/2025/05/GOLDCOASTNationalDay-1.pdf" title="GOLDCOASTNationalDay"]
END:VEVENT
END:VCALENDAR