BEGIN:VCALENDAR
VERSION:2.0
PRODID:-//wp-events-plugin.com//7.2.3.1//EN
BEGIN:VEVENT
UID:19@swissclubqld.org.au
DTSTART:20250802T103000Z
DTEND:20250802T103000Z
DTSTAMP:20250521T202841Z
URL:https://www.swissclubqld.org.au/events/fraser-coast-national-day-celeb
 ration/
SUMMARY:Fraser Coast National Day Celebration
DESCRIPTION:[pdf-embedder url="https://www.swissclubqld.org.au/wp-content/u
 ploads/2025/05/FRASERCOASTNationalDay-1.pdf" title="FRASERCOASTNationalDay
 "]
END:VEVENT
END:VCALENDAR